BEGIN:VCALENDAR
VERSION:2.0
METHOD:PUBLISH
BEGIN:VEVENT
UID:WILD_APRICOT_EVENT_3555188_SESSION_1
DTSTART:20190918T200000Z
DTEND:20190918T213000Z
SUMMARY:Cromwell - Emergency Management  Workshop
LOCATION:Cromwell Town and Country Club\, Melmore Terrace\, Cromwell
DESCRIPTION:https://cohsf.org.nz/event-3555188\n\n\nEmergency Management Workshop\n\n  This workshop in Cromwell we have Matt Alley speaking to us about all things related to emergency management. Matt's day to day role is to support the development of resilient communities in the Central Otago District. Based in Alexandra\, he works across the district to help each community develop its own response plan\, increasing local awareness of hazards\, identifying its resources and building capability to deal with emergencies.\n  Matt will be discussing how people and businesses can plan for events and business continuity through those events\, he will also be covering AF8 \, community plans and the basics of the CODC emergency management system. \n  We look forward to seeing you there.\n
DTSTAMP:20191217T183022Z
END:VEVENT
END:VCALENDAR
