BEGIN:VCALENDAR
VERSION:2.0
METHOD:PUBLISH
BEGIN:VEVENT
UID:WILD_APRICOT_EVENT_3491968_SESSION_1
DTSTART:20200303T200000Z
DTEND:20200304T033000Z
SUMMARY:2020 Conference (session 1 of 2)
LOCATION:Millennium Hotel\, Frankton Road\, Queenstown
DESCRIPTION:https://cohsf.org.nz/event-3491968\n\nYou have heard of the 3 Cs of Health and Safety? Consultation\, Cooperation and Coordination. Well\, the Central Otago Health and Safety Forum brings you the 3 Es – Engage\, Enhance and Educate.\n  Take two days out of the office in our backyard of Queenstown\, and join us at the Millennium Hotel.   \n  We have an amazing line up of national and international keynote speakers including Garth Gallaway\, Andy Evans and Erik Hollnagel\, who will talk on topics ranging from innovative training\, critical risk assessment to Safety 2.\n  The aim of this conference it to ENGAGE with all levels of the work force from the team on the front line to the executive management.  To ENHANCE your passion for your people and “doing work better”\, and to EDUCATE you about the key tools to help you manage your risks.\n  \n\n
DTSTAMP:20191219T051308Z
END:VEVENT
BEGIN:VEVENT
UID:WILD_APRICOT_EVENT_3491968_SESSION_2
DTSTART:20200304T200000Z
DTEND:20200305T030000Z
SUMMARY:2020 Conference (session 2 of 2)
LOCATION:Millennium Hotel\, Frankton Road\, Queenstown
DESCRIPTION:https://cohsf.org.nz/event-3491968\n\nYou have heard of the 3 Cs of Health and Safety? Consultation\, Cooperation and Coordination. Well\, the Central Otago Health and Safety Forum brings you the 3 Es – Engage\, Enhance and Educate.\n  Take two days out of the office in our backyard of Queenstown\, and join us at the Millennium Hotel.   \n  We have an amazing line up of national and international keynote speakers including Garth Gallaway\, Andy Evans and Erik Hollnagel\, who will talk on topics ranging from innovative training\, critical risk assessment to Safety 2.\n  The aim of this conference it to ENGAGE with all levels of the work force from the team on the front line to the executive management.  To ENHANCE your passion for your people and “doing work better”\, and to EDUCATE you about the key tools to help you manage your risks.\n  \n\n
DTSTAMP:20191219T051308Z
END:VEVENT
END:VCALENDAR
