BEGIN:VCALENDAR
VERSION:2.0
METHOD:PUBLISH
BEGIN:VEVENT
UID:WILD_APRICOT_EVENT_3382154_SESSION_1
DTSTART:20190506T203000Z
DTEND:20190506T220000Z
SUMMARY:Family Harm Business training
LOCATION:Cromwell Town and Country Club\, Melmore Terrace\, Cromwell
DESCRIPTION:https://cohsf.org.nz/event-3382154\n\n\nGuest speaker - Jigsaw Central Lakes\n\n  \n  Family harm impacts heavily on businesses financially and emotionally. Jigsaw Central Lakes are working with businesses and HR departments to support and educate them around family violence and the introduction of new legislation coming into force in 2019.\n  Jigsaw's talk will include:\n      * Definitions of Family violence and how your staff will need support\n\n        * Acts and new legislation\n\n        * What you as a business can do to support your staff moving forward\n\n        * Notifications about child protection issues\n\n  A Koha of $10 per person would be appreciated to support Jigsaw and their valuable work that they do in our communities.\n  We look forward to seeing you there.\n
DTSTAMP:20191217T183048Z
END:VEVENT
END:VCALENDAR
