BEGIN:VCALENDAR
VERSION:2.0
METHOD:PUBLISH
BEGIN:VEVENT
UID:WILD_APRICOT_EVENT_3273106_SESSION_1
DTSTART:20190311T190000Z
DTEND:20190311T203000Z
SUMMARY:Practical legal guidance post an incident
LOCATION:Queenstown Events Centre
DESCRIPTION:https://cohsf.org.nz/event-3273106\n\n\nGuest speaker - James Cowan\, Anderson Lloyd\n\n  \n  In the area of Health and Safety\, James acts for businesses and insurers throughout the WorkSafe NZ investigation\, enforcement and prosecution processes. His recent experience includes acting for defendants in one of the first prosecutions by WorkSafe NZ for an accident that resulted in in a fatality. WorkSafe NZ charged four companies that each had overlapping H&S obligations.\n  James talk will include:\n  Outlining some practical guidance and the relevant statutory provisions from the time of a health and safety incident occurring\, up to the point of a formal interview being conducted by a WorkSafe inspector:\n      * Obligations in the wake of a health and safety incident\n\n        * Insurance obligations/complications\n\n        * WorkSafe dealings and interviews\n\n        * WorkSafe inspector powers\n\n        * Attending a formal interview\n\n  A high level overview of the types of formal enforcement by WorkSafe.\n  We look forward to seeing you there.\n
DTSTAMP:20191217T183100Z
END:VEVENT
END:VCALENDAR
