BEGIN:VCALENDAR
VERSION:2.0
METHOD:PUBLISH
BEGIN:VEVENT
UID:WILD_APRICOT_EVENT_3063364_SESSION_1
DTSTART:20180911T200000Z
DTEND:20180911T220000Z
SUMMARY:September Forum
LOCATION:Queenstown Events Centre\, Joe O'connell Dr\, Frankton\, Queenstown 9371
DESCRIPTION:https://cohsf.org.nz/event-3063364\n\n\nSpeaker - Mark Murray\, Assessment Manager\, Operations & Specialist Services\, WorkSafe NZ\n  \nAgenda: \n  \n8.00am networking\,\n 8.30am Speaker will commence with opportunity for Q&A\n 9.20 - Quick update on the Forum\n  \n\n  \n\n Mark has kindly agreed to come and talk to us on a variety of topics including\n\n      * the ‘education’ side of WorkSafe\n\n        * what WorkSafe’s priorities are in Central Otago\n\n        * what the inspectors on the ground are seeing in Central – what improvement notices have been issued (details on issue not the companies involved)\, what further action/prosecutions have been undertaken in this area and also\, as importantly\, what good stuff is being seen\n\n        * where we\, as a District\, could do better.\n\n
DTSTAMP:20191217T183212Z
END:VEVENT
END:VCALENDAR
